BEGIN:VCALENDAR
VERSION:2.0
PRODID:-//Knuedler On Ice - ECPv4.6.3//NONSGML v1.0//EN
CALSCALE:GREGORIAN
METHOD:PUBLISH
X-WR-CALNAME:Knuedler On Ice
X-ORIGINAL-URL:http://www.knuedleronice.lu
X-WR-CALDESC:Events for Knuedler On Ice
BEGIN:VEVENT
DTSTART;TZID=UTC+1:20171223T180000
DTEND;TZID=UTC+1:20171223T220000
DTSTAMP:20180702T031748
CREATED:20171024T212041Z
LAST-MODIFIED:20171024T212041Z
UID:935-1514052000-1514066400@www.knuedleronice.lu
SUMMARY:DJ Kojeck
DESCRIPTION:
URL:http://www.knuedleronice.lu/evenement/dj-kojeck-4/
LOCATION:Place Guillaume II\, Luxembourg\, Luxembourg
END:VEVENT
END:VCALENDAR