BEGIN:VCALENDAR
VERSION:2.0
PRODID:-//Knuedler On Ice - ECPv4.6.3//NONSGML v1.0//EN
CALSCALE:GREGORIAN
METHOD:PUBLISH
X-WR-CALNAME:Knuedler On Ice
X-ORIGINAL-URL:http://www.knuedleronice.lu
X-WR-CALDESC:Events for Knuedler On Ice
BEGIN:VEVENT
DTSTART;TZID=UTC+1:20171213T200000
DTEND;TZID=UTC+1:20171213T210000
DTSTAMP:20180702T031051
CREATED:20171024T212039Z
LAST-MODIFIED:20171024T212039Z
UID:919-1513195200-1513198800@www.knuedleronice.lu
SUMMARY:ISSM Show
DESCRIPTION:
URL:http://www.knuedleronice.lu/evenement/issm-show-2/
LOCATION:Place Guillaume II\, Luxembourg\, Luxembourg
END:VEVENT
END:VCALENDAR