BEGIN:VCALENDAR
VERSION:2.0
PRODID:-//Knuedler On Ice - ECPv4.6.3//NONSGML v1.0//EN
CALSCALE:GREGORIAN
METHOD:PUBLISH
X-WR-CALNAME:Knuedler On Ice
X-ORIGINAL-URL:http://www.knuedleronice.lu
X-WR-CALDESC:Events for Knuedler On Ice
BEGIN:VEVENT
DTSTART;TZID=UTC+1:20171215T180000
DTEND;TZID=UTC+1:20171215T220000
DTSTAMP:20180702T031243
CREATED:20171024T212040Z
LAST-MODIFIED:20171024T212040Z
UID:928-1513360800-1513375200@www.knuedleronice.lu
SUMMARY:Pascal M
DESCRIPTION:
URL:http://www.knuedleronice.lu/evenement/pascal-m/
LOCATION:Place Guillaume II\, Luxembourg\, Luxembourg
END:VEVENT
END:VCALENDAR