BEGIN:VCALENDAR
VERSION:2.0
PRODID:-//Knuedler On Ice - ECPv4.6.3//NONSGML v1.0//EN
CALSCALE:GREGORIAN
METHOD:PUBLISH
X-WR-CALNAME:Knuedler On Ice
X-ORIGINAL-URL:http://www.knuedleronice.lu
X-WR-CALDESC:Events for Knuedler On Ice
BEGIN:VEVENT
DTSTART;TZID=UTC+1:20171229T150000
DTEND;TZID=UTC+1:20171229T180000
DTSTAMP:20180702T031930
CREATED:20171024T212037Z
LAST-MODIFIED:20171024T212037Z
UID:906-1514559600-1514570400@www.knuedleronice.lu
SUMMARY:Sculpteur de ballons Alessio
DESCRIPTION:
URL:http://www.knuedleronice.lu/evenement/sculpteur-de-ballons-alessio-13/
LOCATION:Place Guillaume II\, Luxembourg\, Luxembourg
END:VEVENT
END:VCALENDAR