BEGIN:VCALENDAR
VERSION:2.0
PRODID:-//Knuedler On Ice - ECPv4.6.3//NONSGML v1.0//EN
CALSCALE:GREGORIAN
METHOD:PUBLISH
X-WR-CALNAME:Knuedler On Ice
X-ORIGINAL-URL:http://www.knuedleronice.lu
X-WR-CALDESC:Events for Knuedler On Ice
BEGIN:VEVENT
DTSTART;TZID=UTC+1:20171122T170000
DTEND;TZID=UTC+1:20171122T200000
DTSTAMP:20180702T033018
CREATED:20171024T204140Z
LAST-MODIFIED:20171024T204140Z
UID:844-1511370000-1511380800@www.knuedleronice.lu
SUMMARY:Moniteur de Patinage
DESCRIPTION:
URL:http://www.knuedleronice.lu/evenement/moniteur-de-patinage/
LOCATION:Place Guillaume II\, Luxembourg\, Luxembourg
END:VEVENT
BEGIN:VEVENT
DTSTART;TZID=UTC+1:20171122T180000
DTEND;TZID=UTC+1:20171122T200000
DTSTAMP:20180702T033018
CREATED:20171024T212031Z
LAST-MODIFIED:20171024T212031Z
UID:867-1511373600-1511380800@www.knuedleronice.lu
SUMMARY:Snowman on Ice
DESCRIPTION:
URL:http://www.knuedleronice.lu/evenement/snowman-on-ice/
LOCATION:Place Guillaume II\, Luxembourg\, Luxembourg
END:VEVENT
END:VCALENDAR