BEGIN:VCALENDAR
VERSION:2.0
PRODID:-//Knuedler On Ice - ECPv4.6.3//NONSGML v1.0//EN
CALSCALE:GREGORIAN
METHOD:PUBLISH
X-WR-CALNAME:Knuedler On Ice
X-ORIGINAL-URL:http://www.knuedleronice.lu
X-WR-CALDESC:Events for Knuedler On Ice
BEGIN:VEVENT
DTSTART;TZID=UTC+1:20171123T150000
DTEND;TZID=UTC+1:20171123T180000
DTSTAMP:20180702T033012
CREATED:20171024T204140Z
LAST-MODIFIED:20171024T204140Z
UID:845-1511449200-1511460000@www.knuedleronice.lu
SUMMARY:Moniteur de Patinage
DESCRIPTION:
URL:http://www.knuedleronice.lu/evenement/moniteur-de-patinage-2/
LOCATION:Place Guillaume II\, Luxembourg\, Luxembourg
END:VEVENT
BEGIN:VEVENT
DTSTART;TZID=UTC+1:20171123T153000
DTEND;TZID=UTC+1:20171123T183000
DTSTAMP:20180702T033012
CREATED:20171024T212031Z
LAST-MODIFIED:20171024T212031Z
UID:868-1511451000-1511461800@www.knuedleronice.lu
SUMMARY:Sculpteur de ballons Elio
DESCRIPTION:
URL:http://www.knuedleronice.lu/evenement/sculpteur-de-ballons-elio/
LOCATION:Place Guillaume II\, Luxembourg\, Luxembourg
END:VEVENT
BEGIN:VEVENT
DTSTART;TZID=UTC+1:20171123T180000
DTEND;TZID=UTC+1:20171123T220000
DTSTAMP:20180702T033012
CREATED:20171024T212031Z
LAST-MODIFIED:20171024T212031Z
UID:869-1511460000-1511474400@www.knuedleronice.lu
SUMMARY:DJ Dee
DESCRIPTION:
URL:http://www.knuedleronice.lu/evenement/dj-dee/
LOCATION:Place Guillaume II\, Luxembourg\, Luxembourg
END:VEVENT
END:VCALENDAR