BEGIN:VCALENDAR
VERSION:2.0
PRODID:-//Knuedler On Ice - ECPv4.6.3//NONSGML v1.0//EN
CALSCALE:GREGORIAN
METHOD:PUBLISH
X-WR-CALNAME:Knuedler On Ice
X-ORIGINAL-URL:http://www.knuedleronice.lu
X-WR-CALDESC:Events for Knuedler On Ice
BEGIN:VEVENT
DTSTART;TZID=UTC+1:20171124T150000
DTEND;TZID=UTC+1:20171124T180000
DTSTAMP:20180702T033007
CREATED:20171024T204141Z
LAST-MODIFIED:20171024T204141Z
UID:846-1511535600-1511546400@www.knuedleronice.lu
SUMMARY:Moniteur de Patinage
DESCRIPTION:
URL:http://www.knuedleronice.lu/evenement/moniteur-de-patinage-3/
LOCATION:Place Guillaume II\, Luxembourg\, Luxembourg
END:VEVENT
BEGIN:VEVENT
DTSTART;TZID=UTC+1:20171124T153000
DTEND;TZID=UTC+1:20171124T183000
DTSTAMP:20180702T033007
CREATED:20171024T212031Z
LAST-MODIFIED:20171024T212031Z
UID:870-1511537400-1511548200@www.knuedleronice.lu
SUMMARY:Sculpteur de ballons Alessio
DESCRIPTION:
URL:http://www.knuedleronice.lu/evenement/sculpteur-de-ballons-alessio/
LOCATION:Place Guillaume II\, Luxembourg\, Luxembourg
END:VEVENT
BEGIN:VEVENT
DTSTART;TZID=UTC+1:20171124T180000
DTEND;TZID=UTC+1:20171124T220000
DTSTAMP:20180702T033007
CREATED:20171024T212031Z
LAST-MODIFIED:20171024T212031Z
UID:871-1511546400-1511560800@www.knuedleronice.lu
SUMMARY:Hoffi-Zambesi
DESCRIPTION:
URL:http://www.knuedleronice.lu/evenement/hoffi-zambesi/
LOCATION:Place Guillaume II\, Luxembourg\, Luxembourg
END:VEVENT
END:VCALENDAR