BEGIN:VCALENDAR
VERSION:2.0
PRODID:-//Knuedler On Ice - ECPv4.6.3//NONSGML v1.0//EN
CALSCALE:GREGORIAN
METHOD:PUBLISH
X-WR-CALNAME:Knuedler On Ice
X-ORIGINAL-URL:http://www.knuedleronice.lu
X-WR-CALDESC:Events for Knuedler On Ice
BEGIN:VEVENT
DTSTART;TZID=UTC+1:20171125T150000
DTEND;TZID=UTC+1:20171125T180000
DTSTAMP:20180702T032954
CREATED:20171024T204141Z
LAST-MODIFIED:20171024T204141Z
UID:847-1511622000-1511632800@www.knuedleronice.lu
SUMMARY:Moniteur de Patinage
DESCRIPTION:
URL:http://www.knuedleronice.lu/evenement/moniteur-de-patinage-4/
LOCATION:Place Guillaume II\, Luxembourg\, Luxembourg
END:VEVENT
BEGIN:VEVENT
DTSTART;TZID=UTC+1:20171125T153000
DTEND;TZID=UTC+1:20171125T183000
DTSTAMP:20180702T032954
CREATED:20171024T212032Z
LAST-MODIFIED:20171024T212032Z
UID:872-1511623800-1511634600@www.knuedleronice.lu
SUMMARY:Sculpteur de ballons Elio
DESCRIPTION:
URL:http://www.knuedleronice.lu/evenement/sculpteur-de-ballons-elio-2/
LOCATION:Place Guillaume II\, Luxembourg\, Luxembourg
END:VEVENT
BEGIN:VEVENT
DTSTART;TZID=UTC+1:20171125T180000
DTEND;TZID=UTC+1:20171125T220000
DTSTAMP:20180702T032954
CREATED:20171024T212032Z
LAST-MODIFIED:20171024T212032Z
UID:873-1511632800-1511647200@www.knuedleronice.lu
SUMMARY:Two Man Sound
DESCRIPTION:
URL:http://www.knuedleronice.lu/evenement/two-man-sound/
LOCATION:Place Guillaume II\, Luxembourg\, Luxembourg
END:VEVENT
END:VCALENDAR