BEGIN:VCALENDAR
VERSION:2.0
PRODID:-//Knuedler On Ice - ECPv4.6.3//NONSGML v1.0//EN
CALSCALE:GREGORIAN
METHOD:PUBLISH
X-WR-CALNAME:Knuedler On Ice
X-ORIGINAL-URL:http://www.knuedleronice.lu
X-WR-CALDESC:Events for Knuedler On Ice
BEGIN:VEVENT
DTSTART;TZID=UTC+1:20171127T180000
DTEND;TZID=UTC+1:20171127T210000
DTSTAMP:20180702T032927
CREATED:20171024T212033Z
LAST-MODIFIED:20171024T212033Z
UID:876-1511805600-1511816400@www.knuedleronice.lu
SUMMARY:DJ Cherry
DESCRIPTION:
URL:http://www.knuedleronice.lu/evenement/dj-cherry/
LOCATION:Place Guillaume II\, Luxembourg\, Luxembourg
END:VEVENT
END:VCALENDAR