BEGIN:VCALENDAR
VERSION:2.0
PRODID:-//Knuedler On Ice - ECPv4.6.3//NONSGML v1.0//EN
CALSCALE:GREGORIAN
METHOD:PUBLISH
X-WR-CALNAME:Knuedler On Ice
X-ORIGINAL-URL:http://www.knuedleronice.lu
X-WR-CALDESC:Events for Knuedler On Ice
BEGIN:VEVENT
DTSTART;TZID=UTC+1:20171207T150000
DTEND;TZID=UTC+1:20171207T180000
DTSTAMP:20180702T032638
CREATED:20171024T204142Z
LAST-MODIFIED:20171024T204142Z
UID:853-1512658800-1512669600@www.knuedleronice.lu
SUMMARY:Moniteur de Patinage
DESCRIPTION:
URL:http://www.knuedleronice.lu/evenement/moniteur-de-patinage-10/
LOCATION:Place Guillaume II\, Luxembourg\, Luxembourg
END:VEVENT
BEGIN:VEVENT
DTSTART;TZID=UTC+1:20171207T153000
DTEND;TZID=UTC+1:20171207T183000
DTSTAMP:20180702T032638
CREATED:20171024T212035Z
LAST-MODIFIED:20171024T212035Z
UID:889-1512660600-1512671400@www.knuedleronice.lu
SUMMARY:Sculpteur de ballons Alessio
DESCRIPTION:
URL:http://www.knuedleronice.lu/evenement/sculpteur-de-ballons-alessio-5/
LOCATION:Place Guillaume II\, Luxembourg\, Luxembourg
END:VEVENT
BEGIN:VEVENT
DTSTART;TZID=UTC+1:20171207T180000
DTEND;TZID=UTC+1:20171207T220000
DTSTAMP:20180702T032638
CREATED:20171024T212039Z
LAST-MODIFIED:20171024T212039Z
UID:921-1512669600-1512684000@www.knuedleronice.lu
SUMMARY:DJ Dee
DESCRIPTION:
URL:http://www.knuedleronice.lu/evenement/dj-dee-5/
LOCATION:Place Guillaume II\, Luxembourg\, Luxembourg
END:VEVENT
END:VCALENDAR