BEGIN:VCALENDAR
VERSION:2.0
PRODID:-//Knuedler On Ice - ECPv4.6.3//NONSGML v1.0//EN
CALSCALE:GREGORIAN
METHOD:PUBLISH
X-WR-CALNAME:Knuedler On Ice
X-ORIGINAL-URL:http://www.knuedleronice.lu
X-WR-CALDESC:Events for Knuedler On Ice
BEGIN:VEVENT
DTSTART;TZID=UTC+1:20171208T150000
DTEND;TZID=UTC+1:20171208T180000
DTSTAMP:20180702T032557
CREATED:20171024T204143Z
LAST-MODIFIED:20171024T204143Z
UID:854-1512745200-1512756000@www.knuedleronice.lu
SUMMARY:Moniteur de Patinage
DESCRIPTION:
URL:http://www.knuedleronice.lu/evenement/moniteur-de-patinage-11/
LOCATION:Place Guillaume II\, Luxembourg\, Luxembourg
END:VEVENT
END:VCALENDAR