BEGIN:VCALENDAR
VERSION:2.0
PRODID:-//Knuedler On Ice - ECPv4.6.3//NONSGML v1.0//EN
CALSCALE:GREGORIAN
METHOD:PUBLISH
X-WR-CALNAME:Knuedler On Ice
X-ORIGINAL-URL:http://www.knuedleronice.lu
X-WR-CALDESC:Events for Knuedler On Ice
BEGIN:VEVENT
DTSTART;TZID=UTC+1:20171216T150000
DTEND;TZID=UTC+1:20171216T180000
DTSTAMP:20180702T032434
CREATED:20171024T204143Z
LAST-MODIFIED:20171024T204143Z
UID:859-1513436400-1513447200@www.knuedleronice.lu
SUMMARY:Moniteur de Patinage
DESCRIPTION:
URL:http://www.knuedleronice.lu/evenement/moniteur-de-patinage-16/
LOCATION:Place Guillaume II\, Luxembourg\, Luxembourg
END:VEVENT
BEGIN:VEVENT
DTSTART;TZID=UTC+1:20171216T150000
DTEND;TZID=UTC+1:20171216T180000
DTSTAMP:20180702T032434
CREATED:20171024T212036Z
LAST-MODIFIED:20171024T212036Z
UID:900-1513436400-1513447200@www.knuedleronice.lu
SUMMARY:Sculpteur de ballons Elio
DESCRIPTION:
URL:http://www.knuedleronice.lu/evenement/sculpteur-de-ballons-elio-8/
LOCATION:Place Guillaume II\, Luxembourg\, Luxembourg
END:VEVENT
BEGIN:VEVENT
DTSTART;TZID=UTC+1:20171216T180000
DTEND;TZID=UTC+1:20171216T220000
DTSTAMP:20180702T032434
CREATED:20171024T212040Z
LAST-MODIFIED:20171024T212040Z
UID:929-1513447200-1513461600@www.knuedleronice.lu
SUMMARY:Two Man Sound
DESCRIPTION:
URL:http://www.knuedleronice.lu/evenement/two-man-sound-2/
LOCATION:Place Guillaume II\, Luxembourg\, Luxembourg
END:VEVENT
END:VCALENDAR