BEGIN:VCALENDAR
VERSION:2.0
PRODID:-//Knuedler On Ice - ECPv4.6.3//NONSGML v1.0//EN
CALSCALE:GREGORIAN
METHOD:PUBLISH
X-WR-CALNAME:Knuedler On Ice
X-ORIGINAL-URL:http://www.knuedleronice.lu
X-WR-CALDESC:Events for Knuedler On Ice
BEGIN:VEVENT
DTSTART;TZID=UTC+1:20171220T150000
DTEND;TZID=UTC+1:20171220T180000
DTSTAMP:20180702T032659
CREATED:20171024T212037Z
LAST-MODIFIED:20171024T212037Z
UID:902-1513782000-1513792800@www.knuedleronice.lu
SUMMARY:Sculpteur de ballons Elio
DESCRIPTION:
URL:http://www.knuedleronice.lu/evenement/sculpteur-de-ballons-elio-10/
LOCATION:Place Guillaume II\, Luxembourg\, Luxembourg
END:VEVENT
BEGIN:VEVENT
DTSTART;TZID=UTC+1:20171220T180000
DTEND;TZID=UTC+1:20171220T210000
DTSTAMP:20180702T032659
CREATED:20171024T212041Z
LAST-MODIFIED:20171024T212041Z
UID:932-1513792800-1513803600@www.knuedleronice.lu
SUMMARY:DJ Cherry
DESCRIPTION:
URL:http://www.knuedleronice.lu/evenement/dj-cherry-7/
LOCATION:Place Guillaume II\, Luxembourg\, Luxembourg
END:VEVENT
END:VCALENDAR