BEGIN:VCALENDAR
VERSION:2.0
PRODID:-//Knuedler On Ice - ECPv4.6.3//NONSGML v1.0//EN
CALSCALE:GREGORIAN
METHOD:PUBLISH
X-WR-CALNAME:Knuedler On Ice
X-ORIGINAL-URL:http://www.knuedleronice.lu
X-WR-CALDESC:Events for Knuedler On Ice
BEGIN:VEVENT
DTSTART;TZID=UTC+1:20171231T210000
DTEND;TZID=UTC+1:20180101T030000
DTSTAMP:20180702T032823
CREATED:20171024T212041Z
LAST-MODIFIED:20171024T212041Z
UID:938-1514754000-1514775600@www.knuedleronice.lu
SUMMARY:Reveillon avec DJ Dee
DESCRIPTION:
URL:http://www.knuedleronice.lu/evenement/reveillon-avec-dj-dee/
LOCATION:Place Guillaume II\, Luxembourg\, Luxembourg
END:VEVENT
END:VCALENDAR