BEGIN:VCALENDAR
VERSION:2.0
PRODID:-//Knuedler On Ice - ECPv4.6.3//NONSGML v1.0//EN
CALSCALE:GREGORIAN
METHOD:PUBLISH
X-WR-CALNAME:Knuedler On Ice
X-ORIGINAL-URL:http://www.knuedleronice.lu
X-WR-CALDESC:Events for Knuedler On Ice
BEGIN:VEVENT
DTSTART;TZID=UTC+1:20180103T150000
DTEND;TZID=UTC+1:20180103T180000
DTSTAMP:20180702T032902
CREATED:20171024T212038Z
LAST-MODIFIED:20171024T212038Z
UID:910-1514991600-1515002400@www.knuedleronice.lu
SUMMARY:Sculpteur de ballons Alessio
DESCRIPTION:
URL:http://www.knuedleronice.lu/evenement/sculpteur-de-ballons-alessio-15/
LOCATION:Place Guillaume II\, Luxembourg\, Luxembourg
END:VEVENT
BEGIN:VEVENT
DTSTART;TZID=UTC+1:20180103T180000
DTEND;TZID=UTC+1:20180103T220000
DTSTAMP:20180702T032902
CREATED:20171024T212042Z
LAST-MODIFIED:20171024T212042Z
UID:941-1515002400-1515016800@www.knuedleronice.lu
SUMMARY:DJ Cherry
DESCRIPTION:
URL:http://www.knuedleronice.lu/evenement/dj-cherry-9/
LOCATION:Place Guillaume II\, Luxembourg\, Luxembourg
END:VEVENT
END:VCALENDAR