BEGIN:VCALENDAR
VERSION:2.0
PRODID:-//Knuedler On Ice - ECPv4.6.3//NONSGML v1.0//EN
CALSCALE:GREGORIAN
METHOD:PUBLISH
X-WR-CALNAME:Knuedler On Ice
X-ORIGINAL-URL:http://www.knuedleronice.lu
X-WR-CALDESC:Events for Knuedler On Ice
BEGIN:VEVENT
DTSTART;TZID=UTC+1:20180105T150000
DTEND;TZID=UTC+1:20180105T180000
DTSTAMP:20180702T032932
CREATED:20171024T212038Z
LAST-MODIFIED:20171024T212038Z
UID:914-1515164400-1515175200@www.knuedleronice.lu
SUMMARY:Sculpteur de ballons Elio
DESCRIPTION:
URL:http://www.knuedleronice.lu/evenement/sculpteur-de-ballons-elio-15/
LOCATION:Place Guillaume II\, Luxembourg\, Luxembourg
END:VEVENT
BEGIN:VEVENT
DTSTART;TZID=UTC+1:20180105T180000
DTEND;TZID=UTC+1:20180105T220000
DTSTAMP:20180702T032932
CREATED:20171024T212042Z
LAST-MODIFIED:20171024T212042Z
UID:943-1515175200-1515189600@www.knuedleronice.lu
SUMMARY:Pascal M
DESCRIPTION:
URL:http://www.knuedleronice.lu/evenement/pascal-m-2/
LOCATION:Place Guillaume II\, Luxembourg\, Luxembourg
END:VEVENT
END:VCALENDAR