BEGIN:VCALENDAR
VERSION:2.0
PRODID:-//Knuedler On Ice - ECPv4.6.3//NONSGML v1.0//EN
CALSCALE:GREGORIAN
METHOD:PUBLISH
X-WR-CALNAME:Knuedler On Ice
X-ORIGINAL-URL:http://www.knuedleronice.lu
X-WR-CALDESC:Events for Knuedler On Ice
BEGIN:VEVENT
DTSTART;TZID=UTC+1:20180106T150000
DTEND;TZID=UTC+1:20180106T180000
DTSTAMP:20180702T032945
CREATED:20171024T212038Z
LAST-MODIFIED:20171024T212038Z
UID:915-1515250800-1515261600@www.knuedleronice.lu
SUMMARY:Sculpteur de ballons Elio
DESCRIPTION:
URL:http://www.knuedleronice.lu/evenement/sculpteur-de-ballons-elio-16/
LOCATION:Place Guillaume II\, Luxembourg\, Luxembourg
END:VEVENT
END:VCALENDAR