BEGIN:VCALENDAR
VERSION:2.0
PRODID:-//Knuedler On Ice - ECPv4.6.3//NONSGML v1.0//EN
CALSCALE:GREGORIAN
METHOD:PUBLISH
X-WR-CALNAME:Knuedler On Ice
X-ORIGINAL-URL:http://www.knuedleronice.lu
X-WR-CALDESC:Events for Knuedler On Ice
BEGIN:VEVENT
DTSTART;TZID=UTC+1:20180107T150000
DTEND;TZID=UTC+1:20180107T180000
DTSTAMP:20180702T033001
CREATED:20171024T212038Z
LAST-MODIFIED:20171024T212038Z
UID:912-1515337200-1515348000@www.knuedleronice.lu
SUMMARY:Sculpteur de ballons Alessio
DESCRIPTION:
URL:http://www.knuedleronice.lu/evenement/sculpteur-de-ballons-alessio-17/
LOCATION:Place Guillaume II\, Luxembourg\, Luxembourg
END:VEVENT
BEGIN:VEVENT
DTSTART;TZID=UTC+1:20180107T150000
DTEND;TZID=UTC+1:20180107T180000
DTSTAMP:20180702T033001
CREATED:20171024T212038Z
LAST-MODIFIED:20171024T212038Z
UID:916-1515337200-1515348000@www.knuedleronice.lu
SUMMARY:Snowman on Ice
DESCRIPTION:
URL:http://www.knuedleronice.lu/evenement/snowman-on-ice-2/
LOCATION:Place Guillaume II\, Luxembourg\, Luxembourg
END:VEVENT
END:VCALENDAR